View In:
ArcGIS JavaScript
ArcGIS Online Map Viewer
ArcGIS Earth
ArcMap
View Footprint In:
ArcGIS Online Map Viewer
Service Description: pictometry/picto2025_3in
Name: pictometry/picto2025_3in
Description:
Single Fused Map Cache: false
Extent:
XMin: 10864392
YMin: 3522816
XMax: 10996392
YMax: 3665376
Spatial Reference: PROJCS["NAD_1983_Virginia_South_ftUS",GEOGCS["GCS_North_American_1983",DATUM["D_North_American_1983",SPHEROID["GRS_1980",6378137.0,298.257222101]],PRIMEM["Greenwich",0.0],UNIT["Degree",0.0174532925199433]],PROJECTION["Lambert_Conformal_Conic"],PARAMETER["false_easting",11482916.6666667],PARAMETER["false_northing",3280833.33333333],PARAMETER["central_meridian",-78.5],PARAMETER["standard_parallel_1",36.7666666666667],PARAMETER["standard_parallel_2",37.9666666666667],PARAMETER["latitude_of_origin",36.3333333333333],UNIT["Foot_US",0.3048006096012192]]
Initial Extent:
XMin: 10864392
YMin: 3522816
XMax: 10996392
YMax: 3665376
Spatial Reference: PROJCS["NAD_1983_Virginia_South_ftUS",GEOGCS["GCS_North_American_1983",DATUM["D_North_American_1983",SPHEROID["GRS_1980",6378137.0,298.257222101]],PRIMEM["Greenwich",0.0],UNIT["Degree",0.0174532925199433]],PROJECTION["Lambert_Conformal_Conic"],PARAMETER["false_easting",11482916.6666667],PARAMETER["false_northing",3280833.33333333],PARAMETER["central_meridian",-78.5],PARAMETER["standard_parallel_1",36.7666666666667],PARAMETER["standard_parallel_2",37.9666666666667],PARAMETER["latitude_of_origin",36.3333333333333],UNIT["Foot_US",0.3048006096012192]]
Full Extent:
XMin: 10864392
YMin: 3522816
XMax: 10996392
YMax: 3665376
Spatial Reference: PROJCS["NAD_1983_Virginia_South_ftUS",GEOGCS["GCS_North_American_1983",DATUM["D_North_American_1983",SPHEROID["GRS_1980",6378137.0,298.257222101]],PRIMEM["Greenwich",0.0],UNIT["Degree",0.0174532925199433]],PROJECTION["Lambert_Conformal_Conic"],PARAMETER["false_easting",11482916.6666667],PARAMETER["false_northing",3280833.33333333],PARAMETER["central_meridian",-78.5],PARAMETER["standard_parallel_1",36.7666666666667],PARAMETER["standard_parallel_2",37.9666666666667],PARAMETER["latitude_of_origin",36.3333333333333],UNIT["Foot_US",0.3048006096012192]]
Pixel Size X: 0.25
Pixel Size Y: 0.25
Band Count: 4
Pixel Type: U8
RasterFunction Infos: {"rasterFunctionInfos": [{
"name": "None",
"description": "",
"help": ""
}]}
Mensuration Capabilities: Basic
Has Histograms: true
Has Colormap: false
Has Multi Dimensions : false
Rendering Rule:
Min Scale: 0
Max Scale: 0
Copyright Text:
Service Data Type: esriImageServiceDataTypeProcessed
Min Values: 0, 0, 0, 0
Max Values: 236, 215, 190, 255
Mean Values: 138.31444939529, 127.62062380649, 103.9302991725, 169.28483516484
Standard Deviation Values: 34.287692692067, 31.278210861912, 25.01091891102, 119.08717358677
Object ID Field:
Fields:
None
Default Mosaic Method: Center
Allowed Mosaic Methods:
SortField:
SortValue: null
Mosaic Operator: First
Default Compression Quality: 75
Default Resampling Method: Bilinear
Max Record Count: null
Max Image Height: 4100
Max Image Width: 15000
Max Download Image Count: null
Max Mosaic Image Count: null
Allow Raster Function: true
Allow Copy: true
Allow Analysis: true
Allow Compute TiePoints: false
Supports Statistics: false
Supports Advanced Queries: false
Use StandardizedQueries: true
Raster Type Infos:
Name: Raster Dataset
Description: Supports all ArcGIS Raster Datasets
Help:
Has Raster Attribute Table: false
Edit Fields Info: null
Ownership Based AccessControl For Rasters: null
Child Resources:
Info
Histograms
Statistics
Key Properties
Legend
Raster Function Infos
Supported Operations:
Export Image
Identify
Measure
Compute Histograms
Compute Statistics Histograms
Get Samples
Compute Class Statistics
Query Boundary
Compute Pixel Location
Compute Angles
Validate
Project