{
 "currentVersion": 10.91,
 "serviceDescription": "pictometry/picto2025_3in",
 "name": "pictometry/picto2025_3in",
 "description": "",
 "extent": {
  "xmin": 10864392,
  "ymin": 3522816,
  "xmax": 10996392,
  "ymax": 3665376,
  "spatialReference": {
   "wkt": "PROJCS[\"NAD_1983_Virginia_South_ftUS\",GEOGCS[\"GCS_North_American_1983\",DATUM[\"D_North_American_1983\",SPHEROID[\"GRS_1980\",6378137.0,298.257222101]],PRIMEM[\"Greenwich\",0.0],UNIT[\"Degree\",0.0174532925199433]],PROJECTION[\"Lambert_Conformal_Conic\"],PARAMETER[\"false_easting\",11482916.6666667],PARAMETER[\"false_northing\",3280833.33333333],PARAMETER[\"central_meridian\",-78.5],PARAMETER[\"standard_parallel_1\",36.7666666666667],PARAMETER[\"standard_parallel_2\",37.9666666666667],PARAMETER[\"latitude_of_origin\",36.3333333333333],UNIT[\"Foot_US\",0.3048006096012192]]"
  }
 },
 "initialExtent": {
  "xmin": 10864392,
  "ymin": 3522816,
  "xmax": 10996392,
  "ymax": 3665376,
  "spatialReference": {
   "wkt": "PROJCS[\"NAD_1983_Virginia_South_ftUS\",GEOGCS[\"GCS_North_American_1983\",DATUM[\"D_North_American_1983\",SPHEROID[\"GRS_1980\",6378137.0,298.257222101]],PRIMEM[\"Greenwich\",0.0],UNIT[\"Degree\",0.0174532925199433]],PROJECTION[\"Lambert_Conformal_Conic\"],PARAMETER[\"false_easting\",11482916.6666667],PARAMETER[\"false_northing\",3280833.33333333],PARAMETER[\"central_meridian\",-78.5],PARAMETER[\"standard_parallel_1\",36.7666666666667],PARAMETER[\"standard_parallel_2\",37.9666666666667],PARAMETER[\"latitude_of_origin\",36.3333333333333],UNIT[\"Foot_US\",0.3048006096012192]]"
  }
 },
 "fullExtent": {
  "xmin": 10864392,
  "ymin": 3522816,
  "xmax": 10996392,
  "ymax": 3665376,
  "spatialReference": {
   "wkt": "PROJCS[\"NAD_1983_Virginia_South_ftUS\",GEOGCS[\"GCS_North_American_1983\",DATUM[\"D_North_American_1983\",SPHEROID[\"GRS_1980\",6378137.0,298.257222101]],PRIMEM[\"Greenwich\",0.0],UNIT[\"Degree\",0.0174532925199433]],PROJECTION[\"Lambert_Conformal_Conic\"],PARAMETER[\"false_easting\",11482916.6666667],PARAMETER[\"false_northing\",3280833.33333333],PARAMETER[\"central_meridian\",-78.5],PARAMETER[\"standard_parallel_1\",36.7666666666667],PARAMETER[\"standard_parallel_2\",37.9666666666667],PARAMETER[\"latitude_of_origin\",36.3333333333333],UNIT[\"Foot_US\",0.3048006096012192]]"
  }
 },
 "hasMultidimensions": false,
 "pixelSizeX": 0.25,
 "pixelSizeY": 0.25,
 "datasetFormat": "MrSID",
 "uncompressedSize": 1204346880000,
 "blockWidth": 1024,
 "blockHeight": 128,
 "compressionType": "Wavelet (MG4)",
 "bandNames": [
  "Band_1",
  "Band_2",
  "Band_3",
  "Band_4"
 ],
 "allowCopy": true,
 "allowAnalysis": true,
 "bandCount": 4,
 "pixelType": "U8",
 "minPixelSize": 0,
 "maxPixelSize": 0,
 "copyrightText": "",
 "serviceDataType": "esriImageServiceDataTypeProcessed",
 "serviceSourceType": "esriImageServiceSourceTypeDataset",
 "minValues": [
  0,
  0,
  0,
  0
 ],
 "maxValues": [
  236,
  215,
  190,
  255
 ],
 "meanValues": [
  138.31444939529,
  127.62062380649,
  103.9302991725,
  169.28483516484
 ],
 "stdvValues": [
  34.287692692067,
  31.278210861912,
  25.01091891102,
  119.08717358677
 ],
 "objectIdField": "",
 "fields": [],
 "capabilities": "Mensuration,Image,Metadata",
 "defaultMosaicMethod": "Center",
 "allowedMosaicMethods": "",
 "sortField": "",
 "sortValue": null,
 "sortAscending": true,
 "mosaicOperator": "First",
 "defaultCompressionQuality": 75,
 "defaultResamplingMethod": "Bilinear",
 "maxImageHeight": 4100,
 "maxImageWidth": 15000,
 "allowRasterFunction": true,
 "rasterFunctionInfos": [
  {
   "name": "None",
   "description": "",
   "help": ""
  }
 ],
 "rasterTypeInfos": [
  {
   "name": "Raster Dataset",
   "description": "Supports all ArcGIS Raster Datasets",
   "help": ""
  }
 ],
 "mensurationCapabilities": "Basic",
 "hasHistograms": true,
 "hasColormap": false,
 "hasRasterAttributeTable": false,
 "minScale": 0,
 "maxScale": 0,
 "exportTilesAllowed": false,
 "supportsStatistics": false,
 "supportsAdvancedQueries": false,
 "editFieldsInfo": null,
 "ownershipBasedAccessControlForRasters": null,
 "allowComputeTiePoints": false,
 "useStandardizedQueries": true,
 "advancedQueryCapabilities": {
  "useStandardizedQueries": true,
  "supportsStatistics": false,
  "supportsOrderBy": false,
  "supportsDistinct": false,
  "supportsPagination": false
 },
 "spatialReference": {
  "wkt": "PROJCS[\"NAD_1983_Virginia_South_ftUS\",GEOGCS[\"GCS_North_American_1983\",DATUM[\"D_North_American_1983\",SPHEROID[\"GRS_1980\",6378137.0,298.257222101]],PRIMEM[\"Greenwich\",0.0],UNIT[\"Degree\",0.0174532925199433]],PROJECTION[\"Lambert_Conformal_Conic\"],PARAMETER[\"false_easting\",11482916.6666667],PARAMETER[\"false_northing\",3280833.33333333],PARAMETER[\"central_meridian\",-78.5],PARAMETER[\"standard_parallel_1\",36.7666666666667],PARAMETER[\"standard_parallel_2\",37.9666666666667],PARAMETER[\"latitude_of_origin\",36.3333333333333],UNIT[\"Foot_US\",0.3048006096012192]]"
 }
}
