View In:
ArcGIS JavaScript
ArcGIS Online Map Viewer
ArcGIS Earth
ArcMap
View Footprint In:
ArcGIS Online Map Viewer
Service Description: pictometry/VAMONT23_SID_3INCH_sid
Name: pictometry/VAMONT23_SID_3INCH_sid
Description:
Single Fused Map Cache: false
Extent:
XMin: 10864392
YMin: 3522816
XMax: 10996392
YMax: 3665376
Spatial Reference: 102747
(2284)
Initial Extent:
XMin: 10864392
YMin: 3522816
XMax: 10996392
YMax: 3665376
Spatial Reference: 102747
(2284)
Full Extent:
XMin: 10864392
YMin: 3522816
XMax: 10996392
YMax: 3665376
Spatial Reference: 102747
(2284)
Pixel Size X: 0.25
Pixel Size Y: 0.25
Band Count: 4
Pixel Type: U8
RasterFunction Infos: {"rasterFunctionInfos": [{
"name": "None",
"description": "",
"help": ""
}]}
Mensuration Capabilities: Basic
Has Histograms: true
Has Colormap: false
Has Multi Dimensions : false
Rendering Rule:
Min Scale: 0
Max Scale: 0
Copyright Text:
Service Data Type: esriImageServiceDataTypeProcessed
Min Values: 0, 0, 0, 0
Max Values: 217, 194, 157, 255
Mean Values: 91.847692307692, 82.252087912088, 60.660879120879, 165.0210989011
Standard Deviation Values: 68.419760417248, 61.186107478642, 45.193677804676, 120.41065994074
Object ID Field:
Fields:
None
Default Mosaic Method: Center
Allowed Mosaic Methods:
SortField:
SortValue: null
Mosaic Operator: First
Default Compression Quality: 75
Default Resampling Method: Bilinear
Max Record Count: null
Max Image Height: 4100
Max Image Width: 15000
Max Download Image Count: null
Max Mosaic Image Count: null
Allow Raster Function: true
Allow Copy: true
Allow Analysis: true
Allow Compute TiePoints: false
Supports Statistics: false
Supports Advanced Queries: false
Use StandardizedQueries: true
Raster Type Infos:
Name: Raster Dataset
Description: Supports all ArcGIS Raster Datasets
Help:
Has Raster Attribute Table: false
Edit Fields Info: null
Ownership Based AccessControl For Rasters: null
Child Resources:
Info
Histograms
Statistics
Key Properties
Legend
Raster Function Infos
Supported Operations:
Export Image
Identify
Measure
Compute Histograms
Compute Statistics Histograms
Get Samples
Compute Class Statistics
Query Boundary
Compute Pixel Location
Compute Angles
Validate
Project